BEGIN:VCALENDAR
VERSION:2.0
PRODID:-//PiA Verein - ECPv6.5.1.5//NONSGML v1.0//EN
CALSCALE:GREGORIAN
METHOD:PUBLISH
X-ORIGINAL-URL:https://www.pia-ev.de
X-WR-CALDESC:Veranstaltungen für PiA Verein
REFRESH-INTERVAL;VALUE=DURATION:PT1H
X-Robots-Tag:noindex
X-PUBLISHED-TTL:PT1H
BEGIN:VTIMEZONE
TZID:Europe/Berlin
BEGIN:DAYLIGHT
TZOFFSETFROM:+0100
TZOFFSETTO:+0200
TZNAME:CEST
DTSTART:20250330T010000
END:DAYLIGHT
BEGIN:STANDARD
TZOFFSETFROM:+0200
TZOFFSETTO:+0100
TZNAME:CET
DTSTART:20251026T010000
END:STANDARD
END:VTIMEZONE
BEGIN:VEVENT
DTSTART;VALUE=DATE:20250113
DTEND;VALUE=DATE:20250329
DTSTAMP:20260420T151456
CREATED:20240913T080212Z
LAST-MODIFIED:20241109T105459Z
UID:711-1736726400-1743206399@www.pia-ev.de
SUMMARY:Weiterbildung Alltagsbegleitung/Betreuungsassistent*in nach §43b (QN2)
DESCRIPTION:Alle pflegebedürftigen Menschen haben einen Anspruch auf zusätzliche Betreuung und Aktivierung (§43b\, SGB XI). \nAls Betreuungskraft begleiten sie pflegebedürftige\,  kognitiv oder psychisch eingeschränkte Menschen in ihrem Alltag. Sie gestalten Freizeit- und Beschäftigungsangebote\, beleiten sie beim  Arztbesuchen\, planen die Alltagsgestaltung und aktivieren und fördern vorhandene Ressourcen und vieles mehr. Dabei arbeiten sie eng mit dem Pflegepersonal zusammen. \nDie Weiterbildung umfasst 160 Stunden Theorie und 80 Stunden Praxis in einer Einrichtung ihrer Wahl. Der theoretische Unterricht wird von verschiedenen Fachdozent*innen gestaltet. Die  praktische Ausbildung wird durch eine qualifizierte Praxisbegleitung begleitet und unterstützt. \nEckdaten \n240 stündige Weiterbildung\, 2 x  pro Woche\,\nmax. 10 Teilnehmer*innen pro Kurs \nAnsprechpartnerin: Frau Ursula Klotz (Dipl. Pflege.Päd.) \nTel.: 03830 256 337 0\nBeginn auf Anfrage \nJe nach Absprache mit den Einrichtungen  \nDo und Fr. von 9.00 bis 16.00 Uhr \nKosten: \n1250\,00 € pro Teilnehmer*in \nBei max. 10 TN einer Einrichtung ges. Kosten 11 500\,00 € \nUnser erfahrenes Dozent*innen-Team freut sich auf Sie. \nDie Teilnehmer*innen erhalten ein qualifiziertes Abschlusszertifikat. Für die Weiterbildung können 20 Fortbildungspunkte angerechnet werden. \n  \n  \n  \n  \n  \n  \n 
URL:https://www.pia-ev.de/termine/weiterbildung-alltagsbegleitung-betreuungsassistentin-nach-%c2%a743b-qn2/
LOCATION:PIA e.V. Oberdorf 4  18551 Glowe\, Oberdorf 4\, Glowe\, 18551\, Deutschland
ORGANIZER;CN="PIA e.V.  Oberdorf 4  18551 Glowe":MAILTO:u.klotz@pia-ev.de
END:VEVENT
END:VCALENDAR