BEGIN:VCALENDAR
VERSION:2.0
PRODID:-//PiA Verein - ECPv6.5.1.5//NONSGML v1.0//EN
CALSCALE:GREGORIAN
METHOD:PUBLISH
X-ORIGINAL-URL:https://www.pia-ev.de
X-WR-CALDESC:Veranstaltungen für PiA Verein
REFRESH-INTERVAL;VALUE=DURATION:PT1H
X-Robots-Tag:noindex
X-PUBLISHED-TTL:PT1H
BEGIN:VTIMEZONE
TZID:Europe/Berlin
BEGIN:DAYLIGHT
TZOFFSETFROM:+0100
TZOFFSETTO:+0200
TZNAME:CEST
DTSTART:20240331T010000
END:DAYLIGHT
BEGIN:STANDARD
TZOFFSETFROM:+0200
TZOFFSETTO:+0100
TZNAME:CET
DTSTART:20241027T010000
END:STANDARD
END:VTIMEZONE
BEGIN:VEVENT
DTSTART;TZID=Europe/Berlin:20240301T140000
DTEND;TZID=Europe/Berlin:20240301T180000
DTSTAMP:20260425T132355
CREATED:20231202T124516Z
LAST-MODIFIED:20231202T124541Z
UID:512-1709301600-1709316000@www.pia-ev.de
SUMMARY:Rückenschonendes Heben und Tragen in der Pflege
DESCRIPTION:Sowohl in der ambulanten als auch in der stationären Versorgung ist die            Anwendung von rückenschonenden Arbeitsweisen für die eigene Gesundheit der Pflegekräfte notwendig. Die Mobilisierung von adipösen Bewohnern\, der Transfer von Bewegungseingeschränkten Klienten oder das Aufrichten vongestürzten Patienten im ambulanten Bereich kann mittels geeigneter Techniken rücken- und kräfteschonend bewältigt werden. \nSchwerpunkte: \n\nTheoretische Grundlagen\nPraktische Übungen\n\nZielgruppe: \nPflegefachkräfte und Pflegekräfte in der stationären und ambulanten Versorgung \nBitte geeignete Kleidung und warme Socken mitbringen \nDozentin:                               Birgit Zimmermann \n                                                Physiotherapeutin \n  \n  \nTermin:                                    01.03.2024 von 14.00 bis 18.00 Uhr (5 UE) \n  \nKosten: 80\,00 € pro Teilnehmer*in\, \n  \nBei Fragen rufen Sie uns an 03830 256 337 0\, für die Anmeldung verwenden Sie bitte das beiliegende Formular. \n  \nEs werden 5 Fortbildungspunkte vergeben
URL:https://www.pia-ev.de/termine/rueckenschonendes-heben-und-tragen-in-der-pflege/
LOCATION:PIA e.V. Oberdorf 4  18551 Glowe\, Oberdorf 4\, Glowe\, 18551\, Deutschland
CATEGORIES:Seminar
END:VEVENT
BEGIN:VEVENT
DTSTART;TZID=Europe/Berlin:20240321T090000
DTEND;TZID=Europe/Berlin:20240321T160000
DTSTAMP:20260425T132355
CREATED:20231202T125257Z
LAST-MODIFIED:20231202T125257Z
UID:516-1711011600-1711036800@www.pia-ev.de
SUMMARY:Personenzentrierte Pflege bei Menschen mit Demenz nach Kitwood
DESCRIPTION:Ein besonderes Konzept im Umgang mit Demenzkranken \nBei Kitwood steht die Persönlichkeit des Einzelnen im Vordergrund. Personenzentrierte Arbeit bedeutet\, dass Menschen mit Demenz im Alltag ständig in ihrem „Person-sein“ gefördert und bestärkt werden müssen. \nInhalte des Seminars (8 UE) \n\nWie definiert Kitwood Demenz?\nWas sind die zentralen psychischen Bedürfnisse?\nDie Kitwood-Blume\nBenigne und maligne Verhaltensweisen im Pflegealltag\nDementia care mapping\nWie kann ich dieses Pflegekonzept in die tägliche Pflege von Demenzerkrankten umsetzen?\n\nZielgruppe: \nAlle Beschäftigten in der Pflege und Betreuung \n  \nEs freut sich auf Sie \nFrau Johanna Eckert-van-Schoof \nLehrerin für Pflegeberufe \nTermin: 21.03.2024 von 9.00 bis 16.00 Uhr \nPräsenzveranstaltung – Teilnahme auch online möglich \nKosten: 115\,00 € pro Teilnehmer*in\, \nBei Fragen rufen Sie uns an 03830 256 337 0\, für die Anmeldung verwenden Sie bitte das beiliegende Formular. \nEs werden 6 Fortbildungspunkte vergeben.
URL:https://www.pia-ev.de/termine/personenzentrierte-pflege-bei-menschen-mit-demenz-nach-kitwood/
LOCATION:PIA e.V. Oberdorf 4  18551 Glowe\, Oberdorf 4\, Glowe\, 18551\, Deutschland
CATEGORIES:Seminar
END:VEVENT
BEGIN:VEVENT
DTSTART;TZID=Europe/Berlin:20240322T090000
DTEND;TZID=Europe/Berlin:20240322T160000
DTSTAMP:20260425T132355
CREATED:20231202T125433Z
LAST-MODIFIED:20231202T125433Z
UID:518-1711098000-1711123200@www.pia-ev.de
SUMMARY:Wundmanagement
DESCRIPTION:Chronische Wunden betreffen ungefähr vier Millionen Menschen in Deutschland. Die Häufigkeit von chronischen Wunden nimmt dabei durch den gesellschaftlichen Wandel mit steigenden Zahlen an Menschen mit Immobilität oder Erkrankungen wie Adipositas und Diabetes immer weiter zu. Chronische Wunden schränken die Lebensqualität von Betroffenen stark ein und erfordern einen sensiblen Umgang und Aufmerksamkeit bei Pflege. \n  \nInhalt des Seminars – 8 UE \n\nWas hat sich in der Wundbehandlung und Therapie von chronischen Wunden verändert? Was ist geblieben?\nWas gibt es an Neuerungen in der Behandlung und wie binde ich dies in die tägliche Pflege ein?\nErfahrungsaustausch und praktische Übungen\n\n  \nZielgruppe: alle Pflegefachkräfte im ambulanten und stationären Pflegebereich \nDozentin: Johanne van Eckert-Schoof\, Krankenschwester\, Wundexpertin \n  \nTermin:    22.03.2024 \n       9.00 bis 16.00 Uhr Präsenzveranstaltung \n       Teilnahme auch online möglich \n  \nBei Fragen rufen Sie uns an 03830 256 3370 \nKosten: 115\,00 €/Teilnehmer*in \nBei mehreren Anmeldungen gibt es einen Preisnachlass von 10 %
URL:https://www.pia-ev.de/termine/wundmanagement/
LOCATION:PIA e.V. Oberdorf 4  18551 Glowe\, Oberdorf 4\, Glowe\, 18551\, Deutschland
CATEGORIES:Seminar
END:VEVENT
BEGIN:VEVENT
DTSTART;VALUE=DATE:20240331
DTEND;VALUE=DATE:20240403
DTSTAMP:20260425T132355
CREATED:20231202T132522Z
LAST-MODIFIED:20241111T085418Z
UID:533-1711843200-1712102399@www.pia-ev.de
SUMMARY:Dreitägige Pflichtweiterbildung für Praxisanleiter*innen Berufspädagogische Fortbildung nach §4(3) PfAPrV im Umfang von 24 UE
DESCRIPTION:Praxisanleiter*innen begleiten die Auszubildenden während ihrer gesamten Ausbildungszeit. Sie dokumentieren Entwicklungen und Fortschritte im Können der Auszubildenden\, sind Ansprechpartner*in für Sorgen und Nöte und am Ende sind sie auch noch Fachprüfer*in\, es findet so zusagen ein Rollenwechsel von der Begleitung der Auszubildenden zum/zur Prüfer*in statt. \nIn dem dreitägigen Seminar werden folgende Fragestellungen erörtert und diskutiert \n1. Tag \nGrundsätze wirksamer Praxisanleitung – Power Tool der praktischen Pflegeausbildung. \n\nVom Wissen und Können zur Kompetenz und Performanz.\n1. Effektivität\, 2. Effizienz -die Reihenfolge machts.\nAusbildungsabbruch vermeiden.\nErfolgreich in die praktische Prüfung führen\n\n 2. Tag \n\n Arbeits- und Lernsituationen und -methoden\,\nModell der vollständigen Handlung.\n5A Methode – zum arbeitsgebundenen Lernen.\nDelegieren – aber wie?\nFeedback-Regeln3. Tag\n\n\nUnsere Auszubildenden – die Generation Z/O – neue Ergebnisse der Shell-tudie – was bedeutet diese andere Wertehaltung für mich als PA\n\n  \nZielgruppe:     Praxisanleitende und ausbildende Pflegekräfte \nDie Weiterbildung findet vom 31.03.- 02.04.2025 statt. \nvon 9.00 bis 16.00 Uhr statt. \nOrt der Weiterbildung: PIA e.V. \n Oberdorf 4 \n 18551 Glowe \nEs freut sich auf Sie  \nUrsula Kriesten\,\n \nUrsula Klotz\, Dipl. Pflegepäd.\n \nKosten: 320\,00 € pro Teilnehmer*in \n  \nBei Fragen rufen Sie uns an 03830 256 3370\, für die Anmeldung verwenden Sie bitte das beiliegende Formular. \nEs werden 20 Fortbildungspunkte vergeben.
URL:https://www.pia-ev.de/termine/dreitaegige-pflichtweiterbildung-fuer-praxisanleiterinnen-berufspaedagogische-fortbildung-nach-%c2%a743-pfaprv-im-umfang-von-24-ue/
LOCATION:PIA e.V. Oberdorf 4  18551 Glowe\, Oberdorf 4\, Glowe\, 18551\, Deutschland
CATEGORIES:Seminar
END:VEVENT
END:VCALENDAR