BEGIN:VCALENDAR
VERSION:2.0
PRODID:-//PiA Verein - ECPv6.5.1.5//NONSGML v1.0//EN
CALSCALE:GREGORIAN
METHOD:PUBLISH
X-ORIGINAL-URL:https://www.pia-ev.de
X-WR-CALDESC:Veranstaltungen für PiA Verein
REFRESH-INTERVAL;VALUE=DURATION:PT1H
X-Robots-Tag:noindex
X-PUBLISHED-TTL:PT1H
BEGIN:VTIMEZONE
TZID:Europe/Berlin
BEGIN:DAYLIGHT
TZOFFSETFROM:+0100
TZOFFSETTO:+0200
TZNAME:CEST
DTSTART:20240331T010000
END:DAYLIGHT
BEGIN:STANDARD
TZOFFSETFROM:+0200
TZOFFSETTO:+0100
TZNAME:CET
DTSTART:20241027T010000
END:STANDARD
END:VTIMEZONE
BEGIN:VEVENT
DTSTART;VALUE=DATE:20240912
DTEND;VALUE=DATE:20240913
DTSTAMP:20260422T215701
CREATED:20241109T094157Z
LAST-MODIFIED:20241109T110211Z
UID:738-1726099200-1726185599@www.pia-ev.de
SUMMARY:Das Bobath-Konzept  (8 UE)
DESCRIPTION:  \nDas Bobath-Konzept bzw. die Bobath-Therapie ist ein therapeutischer\, interdisziplinärer Ansatz zur Behandlung von Menschen mit neurologischen Erkrankungen. Das bedeutet\, dass verschiedene medizinische Berufsgruppen wie Physiotherapeuten\, Pflegekräfte\, Ärzte und Ergotherapeuten zusammenarbeiten\, um den Patienten oder die Patientin in der Phase der Rehabilitation bestmöglich zu unterstützen. Es ist ein interaktiver Prozess zwischen diesen Berufsgruppen\, den Betroffenen und deren Angehörigen. Das Bobath-Konzept berücksichtigt die individuellen Möglichkeiten und Grenzen des Patienten und bezieht diese – unter Anwendung bestimmter Prinzipien – in die Pflege und Therapie mit ein. \nInhalte des Seminars: \n\nWiedererlernen verloren gegangener motorischer Fähigkeiten\nEntwicklung eines Gefühls von Körpermitte und Verbesserung der Körpersymmetrie\nÜbungen zur Verhinderung von Schmerzen\, Kontrakturen und Spastiken\nÜbungen zur Verbesserung der Bewegungen der gelähmten Seite in Koordination  mit der gesunden Seite\n\n  \nZielgruppe: \nAlle Beschäftigten in der Pflege und Betreuung \n  \nEs freut sich auf Sie \nFrau Karger\, Physiotherapeutin \nOrt der Weiterbildung:           \nPIA e.V.\nOberdorf 4\n18551 Glowe \nTermin: 12.09.2025 von 9.00 bis 16.00 Uhr \nKosten: 135\,00€ pro Teilnehmer*in \nBei Fragen rufen Sie uns an 03830 256 3370\, für die Anmeldung verwenden Sie bitte das beiliegende Formular. \nEs werden 8 Fortbildungspunkte vergeben
URL:https://www.pia-ev.de/termine/das-bobath-konzept-8-ue/
END:VEVENT
BEGIN:VEVENT
DTSTART;TZID=Europe/Berlin:20240925T090000
DTEND;TZID=Europe/Berlin:20240925T160000
DTSTAMP:20260422T215701
CREATED:20231229T094523Z
LAST-MODIFIED:20241109T114138Z
UID:599-1727254800-1727280000@www.pia-ev.de
SUMMARY:Neues zum Expertenstandard Decubitus (8UE)
DESCRIPTION:Der aktuelle Stand der Pflegewissenschaft zeigt\, dass geeignet pflegerische Maßnahmen der Entstehung eines Decubitalulceeras entgegen zu wirken. Dazu gehören in erster Linie bewegungs-fördernde Maßnahmen\, sowie der Einsatz von Hilfsmitteln zur Druckentlastung und –verteilung. \nDaher betrachtet der Expertenstandard die Vermeidung von Decubitalulcera als pflegerische Kernaufgabe. \nSchwerpunkte des Seminars sind: \n\nRisikofaktoren und Entstehungsmechanismen von Decubitalulcera\nHilfsmittel zur Decubitusprophylaxe\nUmsetzung und Implementierung des Expertenstandards in den pflegerischen Alltag\nPraktische Umsetzung des Expertenstandards anhand eines Fallbeispiels\n\n  \n  \nZielgruppe:        \nPflegefachkräfte\, Altenpflegekräfte \n  \nEs freut sich auf Sie \nUrsula Klotz\, Krankenschwester\, Dipl. Pflegepädagogin \n Kosten: 135\,00 € \nFür die Teilnahme an dem Seminar werden 8 Fortbildungspunkte vergeben. \n  \n 
URL:https://www.pia-ev.de/termine/neues-zum-expertenstandard-decubitus-8ue-2/
LOCATION:PIA e.V. Oberdorf 4  18551 Glowe\, Oberdorf 4\, Glowe\, 18551\, Deutschland
ORGANIZER;CN="PIA e.V.  Oberdorf 4  18551 Glowe":MAILTO:u.klotz@pia-ev.de
END:VEVENT
END:VCALENDAR